BEGIN:VCALENDAR
VERSION:2.0
PRODID:-//Vote Josh Smead - ECPv6.15.13//NONSGML v1.0//EN
CALSCALE:GREGORIAN
METHOD:PUBLISH
X-WR-CALNAME:Vote Josh Smead
X-ORIGINAL-URL:https://votesmead.com
X-WR-CALDESC:Events for Vote Josh Smead
REFRESH-INTERVAL;VALUE=DURATION:PT1H
X-Robots-Tag:noindex
X-PUBLISHED-TTL:PT1H
BEGIN:VTIMEZONE
TZID:America/New_York
BEGIN:DAYLIGHT
TZOFFSETFROM:-0500
TZOFFSETTO:-0400
TZNAME:EDT
DTSTART:20250309T070000
END:DAYLIGHT
BEGIN:STANDARD
TZOFFSETFROM:-0400
TZOFFSETTO:-0500
TZNAME:EST
DTSTART:20251102T060000
END:STANDARD
BEGIN:DAYLIGHT
TZOFFSETFROM:-0500
TZOFFSETTO:-0400
TZNAME:EDT
DTSTART:20260308T070000
END:DAYLIGHT
BEGIN:STANDARD
TZOFFSETFROM:-0400
TZOFFSETTO:-0500
TZNAME:EST
DTSTART:20261101T060000
END:STANDARD
BEGIN:DAYLIGHT
TZOFFSETFROM:-0500
TZOFFSETTO:-0400
TZNAME:EDT
DTSTART:20270314T070000
END:DAYLIGHT
BEGIN:STANDARD
TZOFFSETFROM:-0400
TZOFFSETTO:-0500
TZNAME:EST
DTSTART:20271107T060000
END:STANDARD
END:VTIMEZONE
BEGIN:VEVENT
DTSTART;TZID=America/New_York:20260425T150000
DTEND;TZID=America/New_York:20260425T170000
DTSTAMP:20260423T144729
CREATED:20260402T124730Z
LAST-MODIFIED:20260402T124731Z
UID:2648-1777129200-1777136400@votesmead.com
SUMMARY:Pam May Meet & Greet
DESCRIPTION:
URL:https://votesmead.com/event/pam-may-meet-greet/
LOCATION:Mokaska Coffee Company\, 705 Edmond Street\, St. Joseph\, Missouri\, 64501\, United States
END:VEVENT
BEGIN:VEVENT
DTSTART;TZID=America/New_York:20260428T113000
DTEND;TZID=America/New_York:20260428T130000
DTSTAMP:20260423T144729
CREATED:20260220T183935Z
LAST-MODIFIED:20260220T183936Z
UID:2588-1777375800-1777381200@votesmead.com
SUMMARY:Buchanan County Women’s Democratic Club
DESCRIPTION:
URL:https://votesmead.com/event/buchanan-county-womens-democratic-club/
LOCATION:San Jose Steakhouse & Mexican Grill\, 4015 S Belt Hwy\, St Joseph\, Missouri\, 64503\, United States
END:VEVENT
END:VCALENDAR