BEGIN:VCALENDAR
VERSION:2.0
PRODID:-//Vote Josh Smead - ECPv6.15.13//NONSGML v1.0//EN
CALSCALE:GREGORIAN
METHOD:PUBLISH
X-WR-CALNAME:Vote Josh Smead
X-ORIGINAL-URL:https://votesmead.com
X-WR-CALDESC:Events for Vote Josh Smead
REFRESH-INTERVAL;VALUE=DURATION:PT1H
X-Robots-Tag:noindex
X-PUBLISHED-TTL:PT1H
BEGIN:VTIMEZONE
TZID:America/New_York
BEGIN:DAYLIGHT
TZOFFSETFROM:-0500
TZOFFSETTO:-0400
TZNAME:EDT
DTSTART:20240310T070000
END:DAYLIGHT
BEGIN:STANDARD
TZOFFSETFROM:-0400
TZOFFSETTO:-0500
TZNAME:EST
DTSTART:20241103T060000
END:STANDARD
BEGIN:DAYLIGHT
TZOFFSETFROM:-0500
TZOFFSETTO:-0400
TZNAME:EDT
DTSTART:20250309T070000
END:DAYLIGHT
BEGIN:STANDARD
TZOFFSETFROM:-0400
TZOFFSETTO:-0500
TZNAME:EST
DTSTART:20251102T060000
END:STANDARD
BEGIN:DAYLIGHT
TZOFFSETFROM:-0500
TZOFFSETTO:-0400
TZNAME:EDT
DTSTART:20260308T070000
END:DAYLIGHT
BEGIN:STANDARD
TZOFFSETFROM:-0400
TZOFFSETTO:-0500
TZNAME:EST
DTSTART:20261101T060000
END:STANDARD
BEGIN:DAYLIGHT
TZOFFSETFROM:-0500
TZOFFSETTO:-0400
TZNAME:EDT
DTSTART:20270314T070000
END:DAYLIGHT
BEGIN:STANDARD
TZOFFSETFROM:-0400
TZOFFSETTO:-0500
TZNAME:EST
DTSTART:20271107T060000
END:STANDARD
END:VTIMEZONE
BEGIN:VTIMEZONE
TZID:America/Chicago
BEGIN:DAYLIGHT
TZOFFSETFROM:-0600
TZOFFSETTO:-0500
TZNAME:CDT
DTSTART:20240310T080000
END:DAYLIGHT
BEGIN:STANDARD
TZOFFSETFROM:-0500
TZOFFSETTO:-0600
TZNAME:CST
DTSTART:20241103T070000
END:STANDARD
BEGIN:DAYLIGHT
TZOFFSETFROM:-0600
TZOFFSETTO:-0500
TZNAME:CDT
DTSTART:20250309T080000
END:DAYLIGHT
BEGIN:STANDARD
TZOFFSETFROM:-0500
TZOFFSETTO:-0600
TZNAME:CST
DTSTART:20251102T070000
END:STANDARD
BEGIN:DAYLIGHT
TZOFFSETFROM:-0600
TZOFFSETTO:-0500
TZNAME:CDT
DTSTART:20260308T080000
END:DAYLIGHT
BEGIN:STANDARD
TZOFFSETFROM:-0500
TZOFFSETTO:-0600
TZNAME:CST
DTSTART:20261101T070000
END:STANDARD
END:VTIMEZONE
BEGIN:VTIMEZONE
TZID:Europe/Amsterdam
BEGIN:DAYLIGHT
TZOFFSETFROM:+0100
TZOFFSETTO:+0200
TZNAME:CEST
DTSTART:20240331T010000
END:DAYLIGHT
BEGIN:STANDARD
TZOFFSETFROM:+0200
TZOFFSETTO:+0100
TZNAME:CET
DTSTART:20241027T010000
END:STANDARD
BEGIN:DAYLIGHT
TZOFFSETFROM:+0100
TZOFFSETTO:+0200
TZNAME:CEST
DTSTART:20250330T010000
END:DAYLIGHT
BEGIN:STANDARD
TZOFFSETFROM:+0200
TZOFFSETTO:+0100
TZNAME:CET
DTSTART:20251026T010000
END:STANDARD
BEGIN:DAYLIGHT
TZOFFSETFROM:+0100
TZOFFSETTO:+0200
TZNAME:CEST
DTSTART:20260329T010000
END:DAYLIGHT
BEGIN:STANDARD
TZOFFSETFROM:+0200
TZOFFSETTO:+0100
TZNAME:CET
DTSTART:20261025T010000
END:STANDARD
END:VTIMEZONE
BEGIN:VEVENT
DTSTART;TZID=America/New_York:20260416T173000
DTEND;TZID=America/New_York:20260416T193000
DTSTAMP:20260423T195832
CREATED:20260327T124901Z
LAST-MODIFIED:20260402T124140Z
UID:2625-1776360600-1776367800@votesmead.com
SUMMARY:Josh Smead St. Joseph Kick Off
DESCRIPTION:Join us on at the East Hills Library on Thursday\, April 16 from 5:30 to 7:30 pm for Josh Smead’s Campaign Kick Off in St. Joseph\, MO.
URL:https://votesmead.com/event/josh-smead-st-joseph-kick-off/
LOCATION:East Hills Library\, Theater Room\, 502 N Woodbine Rd\, St Joseph\, Missouri\, 64506\, United States
END:VEVENT
BEGIN:VEVENT
DTSTART;TZID=America/New_York:20260411T120000
DTEND;TZID=America/New_York:20260411T140000
DTSTAMP:20260423T195832
CREATED:20260402T124521Z
LAST-MODIFIED:20260402T124523Z
UID:2642-1775908800-1775916000@votesmead.com
SUMMARY:The Democratic Women of Platte County: Spring Sweets Auction
DESCRIPTION:
URL:https://votesmead.com/event/the-democratic-women-of-platte-county-spring-sweets-auction/
LOCATION:Harper Haus\, 200 Main Street\, Platte City\, Missouri\, 64079\, United States
END:VEVENT
BEGIN:VEVENT
DTSTART;TZID=America/New_York:20260328T100000
DTEND;TZID=America/New_York:20260328T113000
DTSTAMP:20260423T195832
CREATED:20260327T124326Z
LAST-MODIFIED:20260402T124152Z
UID:2623-1774692000-1774697400@votesmead.com
SUMMARY:No Kings Protest 3
DESCRIPTION:Join the No Kings Protest 3 along Route 291 & West Kansas Street\, Liberty\, MO.
URL:https://votesmead.com/event/no-kings-protest-3/
LOCATION:Missouri
END:VEVENT
BEGIN:VEVENT
DTSTART;TZID=America/New_York:20260327T180000
DTEND;TZID=America/New_York:20260327T210000
DTSTAMP:20260423T195832
CREATED:20260327T124122Z
LAST-MODIFIED:20260402T124157Z
UID:2619-1774634400-1774645200@votesmead.com
SUMMARY:Jeanette Cass Pop-Up Town Hall
DESCRIPTION:
URL:https://votesmead.com/event/jeanette-cass-pop-up-town-hall/
LOCATION:Bella’s Italian Restaurant\, 511 SE Melody Ln\, Lee's Summit\, Missouri\, 64063\, United States
END:VEVENT
BEGIN:VEVENT
DTSTART;TZID=America/New_York:20260321T120000
DTEND;TZID=America/New_York:20260321T230000
DTSTAMP:20260423T195832
CREATED:20260128T221856Z
LAST-MODIFIED:20260402T124203Z
UID:2560-1774094400-1774134000@votesmead.com
SUMMARY:Demo Days Two-Day Event
DESCRIPTION:Join us for an evening of live music\, guest speakers\, and community connections! Demo Days is a Two Day Event\, we’ll be there on Saturday.
URL:https://votesmead.com/event/demo-days-two-day-event/
LOCATION:Admiral Coontz Recreation Center\, 301 Warren Barrett Drive\, Hannibal\, Missouri\, 63401\, United States
END:VEVENT
BEGIN:VEVENT
DTSTART;TZID=America/New_York:20260314T153000
DTEND;TZID=America/New_York:20260314T173000
DTSTAMP:20260423T195832
CREATED:20260306T182804Z
LAST-MODIFIED:20260402T124211Z
UID:2606-1773502200-1773509400@votesmead.com
SUMMARY:Woodneath Community Meet & Greet
DESCRIPTION:
URL:https://votesmead.com/event/woodneath-community-meet-greet/
LOCATION:Woodneath Library Center\, 8900 NE Flintlock Rd\, Kansas City\, Missouri\, 64157\, United States
ATTACH;FMTTYPE=image/jpeg:https://votesmead.com/wp-content/uploads/2026/03/House-Party-Liberty-Womens-Justice-League.jpg
END:VEVENT
BEGIN:VEVENT
DTSTART;TZID=America/New_York:20260314T103000
DTEND;TZID=America/New_York:20260314T150000
DTSTAMP:20260423T195832
CREATED:20260306T180910Z
LAST-MODIFIED:20260311T203521Z
UID:2594-1773484200-1773500400@votesmead.com
SUMMARY:North Central Missouri Democratic Rally
DESCRIPTION:
URL:https://votesmead.com/event/north-central-missouri-democratic-rally/
LOCATION:Livingston County Library\, 450 Locust Street\, Chillicothe\, Missouri\, 64601\, United States
END:VEVENT
BEGIN:VEVENT
DTSTART;TZID=America/New_York:20260314T100000
DTEND;TZID=America/New_York:20260314T120000
DTSTAMP:20260423T195832
CREATED:20260220T183448Z
LAST-MODIFIED:20260306T182115Z
UID:2585-1773482400-1773489600@votesmead.com
SUMMARY:Grundy County Democrats Meeting
DESCRIPTION:
URL:https://votesmead.com/event/grundy-county-democrats-meeting/
LOCATION:903 Main Street\, 903 Main Street\, Trenton\, Missouri\, 64683\, United States
END:VEVENT
BEGIN:VEVENT
DTSTART;TZID=America/New_York:20260225T180000
DTEND;TZID=America/New_York:20260225T200000
DTSTAMP:20260423T195832
CREATED:20260211T215507Z
LAST-MODIFIED:20260220T183708Z
UID:2577-1772042400-1772049600@votesmead.com
SUMMARY:Virtual Phone Bank with Josh Smead
DESCRIPTION:Join us on Wednesday\, February 25th\, from 6 to 8pm (CT) for a virtual phone bank to elect Josh Smead! Josh is running against long time incumbent Sam Graves (R-MO)\, who’s been in office for the last 24 years. Make calls from home and help us elect a leader who’ll put constituents first\, not Trump’s agenda.
URL:https://votesmead.com/event/virtual-phone-bank-with-josh-smead-2/
LOCATION:Missouri
END:VEVENT
BEGIN:VEVENT
DTSTART;TZID=America/New_York:20260218T180000
DTEND;TZID=America/New_York:20260218T200000
DTSTAMP:20260423T195832
CREATED:20260211T215343Z
LAST-MODIFIED:20260220T183650Z
UID:2575-1771437600-1771444800@votesmead.com
SUMMARY:Virtual Phone Bank with Josh Smead
DESCRIPTION:Join us on Wednesday\, February 18th\, from 6 to 8pm (CT) for a virtual phone bank to elect Josh Smead! Josh is running against long time incumbent Sam Graves (R-MO)\, who’s been in office for the last 24 years. Make calls from home and help us elect a leader who’ll put constituents first\, not Trump’s agenda.
URL:https://votesmead.com/event/virtual-phone-bank-with-josh-smead/
LOCATION:Missouri
END:VEVENT
BEGIN:VEVENT
DTSTART;TZID=America/New_York:20260212T190000
DTEND;TZID=America/New_York:20260212T200000
DTSTAMP:20260423T195832
CREATED:20260128T221221Z
LAST-MODIFIED:20260211T215133Z
UID:2554-1770922800-1770926400@votesmead.com
SUMMARY:Instagram Live with Bryan Andrews
DESCRIPTION:Join Josh Smead and Bryan Andrews on Instagram for music and a chat about Missouri politics. Tune it @bryanandrewsmusic
URL:https://votesmead.com/event/instagram-live-with-bryan-andrews/
LOCATION:Missouri
END:VEVENT
BEGIN:VEVENT
DTSTART;TZID=America/New_York:20260205T183000
DTEND;TZID=America/New_York:20260205T203000
DTSTAMP:20260423T195832
CREATED:20260116T165140Z
LAST-MODIFIED:20260128T221523Z
UID:2548-1770316200-1770323400@votesmead.com
SUMMARY:Virtual Town Hall with Josh Smead
DESCRIPTION:Join Josh Smead for a virtual town hall and be part of a real conversation about the future of our community. Hear Josh’s vision\, ask your questions\, and help shape the solutions that matter most. This is your chance to connect\, speak up\, and be heard. Special guests Tracey Steele and Will Westmoreland will join us.  \n\n\n\nTracey Steele is Democratic Candidate running for Missouri House District 12. A proud northlander\, a proud Democrat and native to the 6th Congressional District.  \n\n\n\nWill Westmoreland is a rural campaign and elections expert\, a small farmer\, and the Executive Director of Back Forty Action\, a media production company focused on highlighting the need for strong representation in rural communities.  \n\n\n\nSign up on Action Network to get the Zoom link.
URL:https://votesmead.com/event/virtual-town-hall-with-josh-smead/
LOCATION:Missouri
ATTACH;FMTTYPE=image/webp:https://votesmead.com/wp-content/uploads/2026/01/Virtual-Town-Hall-Feb-2026.webp
END:VEVENT
BEGIN:VEVENT
DTSTART;TZID=America/New_York:20260122T183000
DTEND;TZID=America/New_York:20260122T200000
DTSTAMP:20260423T195832
CREATED:20251215T200200Z
LAST-MODIFIED:20260108T170445Z
UID:2507-1769106600-1769112000@votesmead.com
SUMMARY:Randolph County Democrats
DESCRIPTION:
URL:https://votesmead.com/event/randolph-county-democrats/
LOCATION:MACC Activity Center\, 101 College Ave\, Moberly\, Missouri\, 65270\, United States
END:VEVENT
BEGIN:VEVENT
DTSTART;TZID=America/Chicago:20251215T190000
DTEND;TZID=America/Chicago:20251215T210000
DTSTAMP:20260423T195832
CREATED:20251215T195028Z
LAST-MODIFIED:20251215T195920Z
UID:2502-1765825200-1765832400@votesmead.com
SUMMARY:Putnam County Missouri Democratic Meeting
DESCRIPTION:
URL:https://votesmead.com/event/putnam-county-missouri-democratic-meeting/
LOCATION:Putnam County Library\, 115 S 16th Street\, Unionville\, Missouri\, 63565\, United States
END:VEVENT
BEGIN:VEVENT
DTSTART;TZID=America/Chicago:20251204T173000
DTEND;TZID=America/Chicago:20251204T193000
DTSTAMP:20260423T195832
CREATED:20251118T183729Z
LAST-MODIFIED:20251215T195925Z
UID:2444-1764869400-1764876600@votesmead.com
SUMMARY:Maryville Town Hall
DESCRIPTION:Join Josh Smead for a Town Hall right here in Northwest Missouri! This is your chance to hear directly from the people of Missouri’s 6th Congressional District\, share what matters most to you\, and be part of a growing movement ready to bring real leadership back to Washington.Guest speakers to be announced soon\, stay tuned! \n\n\n\nWe’ll be at Northwest Missouri State University Agricultural Learning Center at the Goppert Foundation Classroom.
URL:https://votesmead.com/event/maryville-town-hall/
LOCATION:Northwest Missouri State University Agricultural Learning Center\, 22893 US-71\, Maryville\, Missouri\, 64468-8285\, United States
END:VEVENT
BEGIN:VEVENT
DTSTART;TZID=America/New_York:20251118T173000
DTEND;TZID=America/New_York:20251118T190000
DTSTAMP:20260423T195832
CREATED:20251118T183440Z
LAST-MODIFIED:20251215T195929Z
UID:2440-1763487000-1763492400@votesmead.com
SUMMARY:United Democrats of Northwest Missouri Meeting
DESCRIPTION:
URL:https://votesmead.com/event/united-democrats-of-northwest-missouri-meeting/
LOCATION:Bandana’s Bar-B-Q St. Joseph\, 4225 Frederick Ave\, St Joseph\, Missouri\, 64506\, United States
END:VEVENT
BEGIN:VEVENT
DTSTART;TZID=America/New_York:20251106T180000
DTEND;TZID=America/New_York:20251106T210000
DTSTAMP:20260423T195832
CREATED:20251104T175320Z
LAST-MODIFIED:20251215T195933Z
UID:2335-1762452000-1762462800@votesmead.com
SUMMARY:An Evening with Bryan Andrews and Josh Smead
DESCRIPTION:Join us for a concert with Bryan Andrews hosted by the Carroll County Democrats.
URL:https://votesmead.com/event/an-evening-with-bryan-andrews-and-josh-smead/
LOCATION:Carrollton Country Club\, 23483 County Rd 260\, Carrollton\, Missouri\, 64633\, United States
END:VEVENT
BEGIN:VEVENT
DTSTART;TZID=Europe/Amsterdam:20250925T060000
DTEND;TZID=Europe/Amsterdam:20250925T200000
DTSTAMP:20260423T195832
CREATED:20250911T154819Z
LAST-MODIFIED:20250912T133837Z
UID:2262-1758780000-1758830400@votesmead.com
SUMMARY:Campaign Kick-off Event
DESCRIPTION:Join us for a town hall style campaign kick-off event at Heritage Hall in Historic Liberty to meet Josh Smead\, candidate for Congress in the 6th District of Missouri. We look forward to discussing what matters most to you in north Missouri and the fight to flip the 6th in 2026! \n\n\n\nPlease bring a non-perishable food item to be donated to Trimble Food Pantry in Trimble\, MO.
URL:https://votesmead.com/event/campaign-kick-off-event/
LOCATION:Heritage Hall\, 117 W Kansas Street\, Liberty\, Missouri\, 64068\, United States
END:VEVENT
END:VCALENDAR