BEGIN:VCALENDAR
VERSION:2.0
PRODID:-//Vote Josh Smead - ECPv6.15.13//NONSGML v1.0//EN
CALSCALE:GREGORIAN
METHOD:PUBLISH
X-WR-CALNAME:Vote Josh Smead
X-ORIGINAL-URL:https://votesmead.com
X-WR-CALDESC:Events for Vote Josh Smead
REFRESH-INTERVAL;VALUE=DURATION:PT1H
X-Robots-Tag:noindex
X-PUBLISHED-TTL:PT1H
BEGIN:VTIMEZONE
TZID:America/New_York
BEGIN:DAYLIGHT
TZOFFSETFROM:-0500
TZOFFSETTO:-0400
TZNAME:EDT
DTSTART:20250309T070000
END:DAYLIGHT
BEGIN:STANDARD
TZOFFSETFROM:-0400
TZOFFSETTO:-0500
TZNAME:EST
DTSTART:20251102T060000
END:STANDARD
BEGIN:DAYLIGHT
TZOFFSETFROM:-0500
TZOFFSETTO:-0400
TZNAME:EDT
DTSTART:20260308T070000
END:DAYLIGHT
BEGIN:STANDARD
TZOFFSETFROM:-0400
TZOFFSETTO:-0500
TZNAME:EST
DTSTART:20261101T060000
END:STANDARD
BEGIN:DAYLIGHT
TZOFFSETFROM:-0500
TZOFFSETTO:-0400
TZNAME:EDT
DTSTART:20270314T070000
END:DAYLIGHT
BEGIN:STANDARD
TZOFFSETFROM:-0400
TZOFFSETTO:-0500
TZNAME:EST
DTSTART:20271107T060000
END:STANDARD
END:VTIMEZONE
BEGIN:VEVENT
DTSTART;TZID=America/New_York:20260418T140000
DTEND;TZID=America/New_York:20260418T170000
DTSTAMP:20260423T162545
CREATED:20260327T125934Z
LAST-MODIFIED:20260402T124135Z
UID:2633-1776520800-1776531600@votesmead.com
SUMMARY:Farm Forum
DESCRIPTION:
URL:https://votesmead.com/event/farm-forum/
LOCATION:Milan Missouri Community Center\, 205 N Market St\, Milan\, Missouri\, 63556\, United States
END:VEVENT
END:VCALENDAR